BEGIN:VCALENDAR
VERSION:2.0
PRODID:-//Somerford Parish Council//Meeting Calendar//EN
CALSCALE:GREGORIAN
METHOD:PUBLISH
BEGIN:VEVENT
UID:70499-20240617@somerfordparishcouncil.gov.uk
DTSTAMP:20260424T083636Z
DTSTART;VALUE=DATE:20240617
DTEND;VALUE=DATE:20240618
SUMMARY:Parish Council &#8211\\; 17th June 2024
DESCRIPTION:Parish Council Meeting\nView details: https://somerfordparishcouncil.gov.uk/meetings/parish-council-17th-june-2024/
URL:https://somerfordparishcouncil.gov.uk/meetings/parish-council-17th-june-2024/
END:VEVENT
END:VCALENDAR
