BEGIN:VCALENDAR
VERSION:2.0
PRODID:-//Somerford Parish Council//Meeting Calendar//EN
CALSCALE:GREGORIAN
METHOD:PUBLISH
BEGIN:VEVENT
UID:70500-20240715@somerfordparishcouncil.gov.uk
DTSTAMP:20260424T082245Z
DTSTART;VALUE=DATE:20240715
DTEND;VALUE=DATE:20240716
SUMMARY:Parish Council &#8211\\; 15th July 2024
DESCRIPTION:Parish Council Meeting\nView details: https://somerfordparishcouncil.gov.uk/meetings/parish-council-15th-july-2024/
URL:https://somerfordparishcouncil.gov.uk/meetings/parish-council-15th-july-2024/
END:VEVENT
END:VCALENDAR
