BEGIN:VCALENDAR
VERSION:2.0
PRODID:-//Somerford Parish Council//Meeting Calendar//EN
CALSCALE:GREGORIAN
METHOD:PUBLISH
BEGIN:VEVENT
UID:70501-20240819@somerfordparishcouncil.gov.uk
DTSTAMP:20260424T082245Z
DTSTART;VALUE=DATE:20240819
DTEND;VALUE=DATE:20240820
SUMMARY:Parish Council &#8211\\; 19th August &#8211\\; Cancelled
DESCRIPTION:Parish Council Meeting\nView details: https://somerfordparishcouncil.gov.uk/meetings/parish-council-19th-august/
URL:https://somerfordparishcouncil.gov.uk/meetings/parish-council-19th-august/
END:VEVENT
END:VCALENDAR
