BEGIN:VCALENDAR
VERSION:2.0
PRODID:-//Somerford Parish Council//Meeting Calendar//EN
CALSCALE:GREGORIAN
METHOD:PUBLISH
BEGIN:VEVENT
UID:70502-20240930@somerfordparishcouncil.gov.uk
DTSTAMP:20260424T103250Z
DTSTART;VALUE=DATE:20240930
DTEND;VALUE=DATE:20241001
SUMMARY:Parish Council &#8211\\; 30th September 2024
DESCRIPTION:Parish Council Meeting\nView details: https://somerfordparishcouncil.gov.uk/meetings/parish-council-30th-september-2024/
URL:https://somerfordparishcouncil.gov.uk/meetings/parish-council-30th-september-2024/
END:VEVENT
END:VCALENDAR
