BEGIN:VCALENDAR
VERSION:2.0
PRODID:-//Somerford Parish Council//Meeting Calendar//EN
CALSCALE:GREGORIAN
METHOD:PUBLISH
BEGIN:VEVENT
UID:70782-20240903@somerfordparishcouncil.gov.uk
DTSTAMP:20260424T103854Z
DTSTART;VALUE=DATE:20240903
DTEND;VALUE=DATE:20240904
SUMMARY:Extraordinary Meeting &#8211\\; 3rd September 2024
DESCRIPTION:Parish Council Meeting\nView details: https://somerfordparishcouncil.gov.uk/meetings/extraordinary-meeting/
URL:https://somerfordparishcouncil.gov.uk/meetings/extraordinary-meeting/
END:VEVENT
END:VCALENDAR
