BEGIN:VCALENDAR
VERSION:2.0
PRODID:-//Somerford Parish Council//Meeting Calendar//EN
CALSCALE:GREGORIAN
METHOD:PUBLISH
BEGIN:VEVENT
UID:70863-20250115@somerfordparishcouncil.gov.uk
DTSTAMP:20260424T101741Z
DTSTART;VALUE=DATE:20250115
DTEND;VALUE=DATE:20250116
SUMMARY:Parish Council &#8211\\; 15th January 2025
DESCRIPTION:Parish Council Meeting\nView details: https://somerfordparishcouncil.gov.uk/meetings/parish-council-15th-january-2025/
URL:https://somerfordparishcouncil.gov.uk/meetings/parish-council-15th-january-2025/
END:VEVENT
END:VCALENDAR
