BEGIN:VCALENDAR
VERSION:2.0
PRODID:-//Somerford Parish Council//Meeting Calendar//EN
CALSCALE:GREGORIAN
METHOD:PUBLISH
BEGIN:VEVENT
UID:70865-20250319@somerfordparishcouncil.gov.uk
DTSTAMP:20260424T101300Z
DTSTART;VALUE=DATE:20250319
DTEND;VALUE=DATE:20250320
SUMMARY:Parish Council &#8211\\; 19th March 2025
DESCRIPTION:Parish Council Meeting\nView details: https://somerfordparishcouncil.gov.uk/meetings/parish-council-19th-march-2025/
URL:https://somerfordparishcouncil.gov.uk/meetings/parish-council-19th-march-2025/
END:VEVENT
END:VCALENDAR
