BEGIN:VCALENDAR
VERSION:2.0
PRODID:-//Somerford Parish Council//Meeting Calendar//EN
CALSCALE:GREGORIAN
METHOD:PUBLISH
BEGIN:VEVENT
UID:70866-20250416@somerfordparishcouncil.gov.uk
DTSTAMP:20260424T082238Z
DTSTART;VALUE=DATE:20250416
DTEND;VALUE=DATE:20250417
SUMMARY:Parish Council &#8211\\; 16th April 2025
DESCRIPTION:Parish Council Meeting\nView details: https://somerfordparishcouncil.gov.uk/meetings/parish-council-16th-april-2025/
URL:https://somerfordparishcouncil.gov.uk/meetings/parish-council-16th-april-2025/
END:VEVENT
END:VCALENDAR
