BEGIN:VCALENDAR
VERSION:2.0
PRODID:-//Somerford Parish Council//Meeting Calendar//EN
CALSCALE:GREGORIAN
METHOD:PUBLISH
BEGIN:VEVENT
UID:70868-20250625@somerfordparishcouncil.gov.uk
DTSTAMP:20260424T082238Z
DTSTART;VALUE=DATE:20250625
DTEND;VALUE=DATE:20250626
SUMMARY:Parish Council &#8211\\; 25th June 2025
DESCRIPTION:Parish Council Meeting\nView details: https://somerfordparishcouncil.gov.uk/meetings/parish-council-18th-june-2025/
URL:https://somerfordparishcouncil.gov.uk/meetings/parish-council-18th-june-2025/
END:VEVENT
END:VCALENDAR
