BEGIN:VCALENDAR
VERSION:2.0
PRODID:-//Somerford Parish Council//Meeting Calendar//EN
CALSCALE:GREGORIAN
METHOD:PUBLISH
BEGIN:VEVENT
UID:70869-20250716@somerfordparishcouncil.gov.uk
DTSTAMP:20260422T085523Z
DTSTART;VALUE=DATE:20250716
DTEND;VALUE=DATE:20250717
SUMMARY:Parish Council &#8211\\; 16th July 2025
DESCRIPTION:Parish Council Meeting\nView details: https://somerfordparishcouncil.gov.uk/meetings/parish-council-16th-july-2025/
URL:https://somerfordparishcouncil.gov.uk/meetings/parish-council-16th-july-2025/
END:VEVENT
END:VCALENDAR
