BEGIN:VCALENDAR
VERSION:2.0
PRODID:-//Somerford Parish Council//Meeting Calendar//EN
CALSCALE:GREGORIAN
METHOD:PUBLISH
BEGIN:VEVENT
UID:70872-20251015@somerfordparishcouncil.gov.uk
DTSTAMP:20260422T085510Z
DTSTART;VALUE=DATE:20251015
DTEND;VALUE=DATE:20251016
SUMMARY:Parish Council &#8211\\; 15 October Cancelled
DESCRIPTION:Parish Council Meeting\nView details: https://somerfordparishcouncil.gov.uk/meetings/parish-council-15th-october-2025/
URL:https://somerfordparishcouncil.gov.uk/meetings/parish-council-15th-october-2025/
END:VEVENT
END:VCALENDAR
